BEGIN:VCALENDAR
VERSION:2.0
PRODID:-//Ville de Mèze - ECPv6.15.20//NONSGML v1.0//EN
CALSCALE:GREGORIAN
METHOD:PUBLISH
X-WR-CALNAME:Ville de Mèze
X-ORIGINAL-URL:https://www.ville-meze.fr
X-WR-CALDESC:Évènements pour Ville de Mèze
REFRESH-INTERVAL;VALUE=DURATION:PT1H
X-Robots-Tag:noindex
X-PUBLISHED-TTL:PT1H
BEGIN:VTIMEZONE
TZID:Europe/Paris
BEGIN:DAYLIGHT
TZOFFSETFROM:+0100
TZOFFSETTO:+0200
TZNAME:CEST
DTSTART:20250330T010000
END:DAYLIGHT
BEGIN:STANDARD
TZOFFSETFROM:+0200
TZOFFSETTO:+0100
TZNAME:CET
DTSTART:20251026T010000
END:STANDARD
BEGIN:DAYLIGHT
TZOFFSETFROM:+0100
TZOFFSETTO:+0200
TZNAME:CEST
DTSTART:20260329T010000
END:DAYLIGHT
BEGIN:STANDARD
TZOFFSETFROM:+0200
TZOFFSETTO:+0100
TZNAME:CET
DTSTART:20261025T010000
END:STANDARD
BEGIN:DAYLIGHT
TZOFFSETFROM:+0100
TZOFFSETTO:+0200
TZNAME:CEST
DTSTART:20270328T010000
END:DAYLIGHT
BEGIN:STANDARD
TZOFFSETFROM:+0200
TZOFFSETTO:+0100
TZNAME:CET
DTSTART:20271031T010000
END:STANDARD
END:VTIMEZONE
BEGIN:VEVENT
DTSTART;TZID=Europe/Paris:20260421T100000
DTEND;TZID=Europe/Paris:20260421T110000
DTSTAMP:20260421T012917
CREATED:20260126T132726Z
LAST-MODIFIED:20260126T132946Z
UID:25626-1776765600-1776769200@www.ville-meze.fr
SUMMARY:Et toi\, comment tu te débrouilles ?
DESCRIPTION:Théâtre par le Troupuscule Théâtre\n// C’est l’histoire de Charly\, un enfant qui s’interroge. Pourquoi dit-on c’est le masculin qui l’emporte ? Et l’emporte où d’ailleurs ? Où vont les gens quand ils sont morts ? \n C’est aussi l’histoire d’une grand-mère figure du féminisme. Dans sa caboche\, les pensées s’emmêlent\, comme elle le dit : « Ma mémoire est une forêt dont on abat les arbres ». Mamé espère finir ses jours auprès des siens. \nAvec humour et tendresse\, Charly et sa famille nous invite à traverser les étapes d’un parcours initiatique où le mot grandir prend tout son sens. \n Une ode à l’amour intergénérationnel\, portée par la question de l’altérité\, de l’acceptation de soi de l’égalité entre les femmes et les hommes. \nTout public et scolaire à partir de 8 ans | tarifs de 3€ à 6€\nAuteur.rice : Mariana Lézin et Paul Tilmont Mise en scène : Mariana Lézin Comédien.ne : Pauline Vaubaillon et Paul Tilmont Scénographie : Florent Marie Musique : Nilco Création lumière : Alexandre Barthès Costumes : Patrick Cavalié et Eve Meunier Construction des décors : Atelier Christophe & B. | Crédit photo @Lionel Moogin
URL:https://www.ville-meze.fr/evenements/et-toi-comment-tu-te-debrouilles/
LOCATION:à la salle Jeanne-Oulié\, Foyer Municipal\, Rue Sadi Carnot
CATEGORIES:Culture
ATTACH;FMTTYPE=image/jpeg:https://www.ville-meze.fr/app/uploads/2026/01/troupuscule016-paysage-lionel-moogin-scaled.jpg
END:VEVENT
BEGIN:VEVENT
DTSTART;TZID=Europe/Paris:20260421T103000
DTEND;TZID=Europe/Paris:20260421T120000
DTSTAMP:20260421T012917
CREATED:20260408T195355Z
LAST-MODIFIED:20260408T195355Z
UID:27149-1776767400-1776772800@www.ville-meze.fr
SUMMARY:Ciné-pitchoun: Les toutes petites créatures 2
DESCRIPTION:Ciné-pitchoun: le mardi 21 avril à 10h30 \nFilm « Les toutes petites créatures 2 » + atelier « pâte à modeler » (atelier sur inscription à cinema-taurus@ville-meze.fr) \nTarifs: Enfant 4€ // Adulte 5€ \nLes Toutes Petites Créatures 2\n2026 Grande Bretagne 0h38\nAnimation de Lucy Izzard\nNos cinq petites créatures sont de retour pour explorer davantage l’aire de jeux : faire du train\, dessiner sur des tableaux noirs et nourrir les animaux de la ferme – le plaisir\, la positivité et l’acceptation étant au cœur de chaque épisode.
URL:https://www.ville-meze.fr/evenements/cine-pitchoun-les-toutes-petites-creatures-2/
LOCATION:au cinéma municipal Le Taurus
CATEGORIES:Culture
ATTACH;FMTTYPE=image/jpeg:https://www.ville-meze.fr/app/uploads/2026/03/26-4-21cinepitchoun_a3.jpg
END:VEVENT
END:VCALENDAR