BEGIN:VCALENDAR
VERSION:2.0
PRODID:-//Ville de Mèze - ECPv6.15.20//NONSGML v1.0//EN
CALSCALE:GREGORIAN
METHOD:PUBLISH
X-WR-CALNAME:Ville de Mèze
X-ORIGINAL-URL:https://www.ville-meze.fr
X-WR-CALDESC:Évènements pour Ville de Mèze
REFRESH-INTERVAL;VALUE=DURATION:PT1H
X-Robots-Tag:noindex
X-PUBLISHED-TTL:PT1H
BEGIN:VTIMEZONE
TZID:Europe/Paris
BEGIN:DAYLIGHT
TZOFFSETFROM:+0100
TZOFFSETTO:+0200
TZNAME:CEST
DTSTART:20250330T010000
END:DAYLIGHT
BEGIN:STANDARD
TZOFFSETFROM:+0200
TZOFFSETTO:+0100
TZNAME:CET
DTSTART:20251026T010000
END:STANDARD
BEGIN:DAYLIGHT
TZOFFSETFROM:+0100
TZOFFSETTO:+0200
TZNAME:CEST
DTSTART:20260329T010000
END:DAYLIGHT
BEGIN:STANDARD
TZOFFSETFROM:+0200
TZOFFSETTO:+0100
TZNAME:CET
DTSTART:20261025T010000
END:STANDARD
BEGIN:DAYLIGHT
TZOFFSETFROM:+0100
TZOFFSETTO:+0200
TZNAME:CEST
DTSTART:20270328T010000
END:DAYLIGHT
BEGIN:STANDARD
TZOFFSETFROM:+0200
TZOFFSETTO:+0100
TZNAME:CET
DTSTART:20271031T010000
END:STANDARD
END:VTIMEZONE
BEGIN:VEVENT
DTSTART;TZID=Europe/Paris:20260425T080000
DTEND;TZID=Europe/Paris:20260426T220000
DTSTAMP:20260426T015113
CREATED:20251003T141742Z
LAST-MODIFIED:20260108T151127Z
UID:23739-1777104000-1777240800@www.ville-meze.fr
SUMMARY:Badminton
DESCRIPTION:Tournoi de badminton\, organisé par le BCM
URL:https://www.ville-meze.fr/evenements/badminton-7/
LOCATION:au gymnase Bernard Jeu Rue de la Méditerranée
CATEGORIES:Sport
ATTACH;FMTTYPE=image/gif:https://www.ville-meze.fr/app/uploads/2024/01/badminton_800-1.gif
END:VEVENT
BEGIN:VEVENT
DTSTART;TZID=Europe/Paris:20260425T090000
DTEND;TZID=Europe/Paris:20260426T200000
DTSTAMP:20260426T015113
CREATED:20260313T072952Z
LAST-MODIFIED:20260313T072952Z
UID:26389-1777107600-1777233600@www.ville-meze.fr
SUMMARY:Auditions Thau en Scène
DESCRIPTION:Les auditions auront lieu à Mèze les 25 et 26 avril devant un jury composé de professionnels de la voix\, de la musique ou des arts de la scène. \nLes candidats produiront leur chanson\, en live\, devant le jury et les caméras de TV Mèze. Ils devront également se présenter en quelques minutes et décrire leur parcours. Le jury choisira ensuite les demi-finalistes qui formeront ainsi la finale par catégorie.
URL:https://www.ville-meze.fr/evenements/auditions-thau-en-scene-2/
LOCATION:à la salle Jeanne-Oulié\, Foyer Municipal\, Rue Sadi Carnot
CATEGORIES:Association
ATTACH;FMTTYPE=image/jpeg:https://www.ville-meze.fr/app/uploads/2026/03/thau_en_scene_inscriptions_28-mars-2026.jpg
END:VEVENT
BEGIN:VEVENT
DTSTART;TZID=Europe/Paris:20260426T100000
DTEND;TZID=Europe/Paris:20260426T110000
DTSTAMP:20260426T015113
CREATED:20251008T070917Z
LAST-MODIFIED:20260108T151205Z
UID:23844-1777197600-1777201200@www.ville-meze.fr
SUMMARY:Cérémonie
DESCRIPTION:Cérémonie commémorative \nJournée nationale du souvenir des victimes de la déportation
URL:https://www.ville-meze.fr/evenements/ceremonie-15/
LOCATION:au monument aux morts
CATEGORIES:Vie municipale
ATTACH;FMTTYPE=image/jpeg:https://www.ville-meze.fr/app/uploads/2025/10/ceremonie_commemorative.jpg
END:VEVENT
END:VCALENDAR