BEGIN:VCALENDAR
VERSION:2.0
PRODID:-//Ville de Mèze - ECPv6.15.20//NONSGML v1.0//EN
CALSCALE:GREGORIAN
METHOD:PUBLISH
X-WR-CALNAME:Ville de Mèze
X-ORIGINAL-URL:https://www.ville-meze.fr
X-WR-CALDESC:Évènements pour Ville de Mèze
REFRESH-INTERVAL;VALUE=DURATION:PT1H
X-Robots-Tag:noindex
X-PUBLISHED-TTL:PT1H
BEGIN:VTIMEZONE
TZID:Europe/Paris
BEGIN:DAYLIGHT
TZOFFSETFROM:+0100
TZOFFSETTO:+0200
TZNAME:CEST
DTSTART:20230326T010000
END:DAYLIGHT
BEGIN:STANDARD
TZOFFSETFROM:+0200
TZOFFSETTO:+0100
TZNAME:CET
DTSTART:20231029T010000
END:STANDARD
BEGIN:DAYLIGHT
TZOFFSETFROM:+0100
TZOFFSETTO:+0200
TZNAME:CEST
DTSTART:20240331T010000
END:DAYLIGHT
BEGIN:STANDARD
TZOFFSETFROM:+0200
TZOFFSETTO:+0100
TZNAME:CET
DTSTART:20241027T010000
END:STANDARD
BEGIN:DAYLIGHT
TZOFFSETFROM:+0100
TZOFFSETTO:+0200
TZNAME:CEST
DTSTART:20250330T010000
END:DAYLIGHT
BEGIN:STANDARD
TZOFFSETFROM:+0200
TZOFFSETTO:+0100
TZNAME:CET
DTSTART:20251026T010000
END:STANDARD
END:VTIMEZONE
BEGIN:VEVENT
DTSTART;TZID=Europe/Paris:20240308T190000
DTEND;TZID=Europe/Paris:20240308T220000
DTSTAMP:20260420T023857
CREATED:20231227T061049Z
LAST-MODIFIED:20240131T082016Z
UID:3335-1709924400-1709935200@www.ville-meze.fr
SUMMARY:Apéro-concert
DESCRIPTION:Apéro-concert en partenariat avec le Festival de Thau \n19h\, ouverture des portes : petite restauration et buvette sur place \n20h\, concert « Oriane Lacaille » \nOriane trace depuis plusieurs années son propre chemin\, pavé de musique créole endiablée\, de mélodies envoutantes et mélange avec poésie la langue créole et la langue française. \nÀ l’occasion de la Journée Internationale des droits des Femmes\, le Festival de Thau invite la musicienne Oriane Lacaille\, pour un concert intimiste\, suivi d’une rencontre avec le public. \nUne soirée proposée dans le cadre du temps-fort « Des Femmes et des Arts » en collaboration avec la Ville de Mèze \n  \nInfo et billetterie sur www.festivaldethau.com et au bureau du festival : château de Girard 04 67 18 70 83 | Tarifs : Prévente 13 € / Sur place 16 € / Gratuit – de 12 ans
URL:https://www.ville-meze.fr/evenements/apero-concert-7/
LOCATION:à la salle Jeanne-Oulié\, Foyer Municipal\, Rue Sadi Carnot
CATEGORIES:Culture
ATTACH;FMTTYPE=image/jpeg:https://www.ville-meze.fr/app/uploads/2024/01/lacaille_festivadethau.jpg
END:VEVENT
BEGIN:VEVENT
DTSTART;TZID=Europe/Paris:20240312T090000
DTEND;TZID=Europe/Paris:20240525T180000
DTSTAMP:20260420T023857
CREATED:20240306T144632Z
LAST-MODIFIED:20240306T144632Z
UID:7362-1710234000-1716660000@www.ville-meze.fr
SUMMARY:Exposition
DESCRIPTION:PSYCHÉPOP – 1966-1976 : LES MIRAGES DES IMAGES \nAccompagnant les expressions\, musicales\, littéraires ou politiques d’une époque ouverte sur les voyages intérieurs\, de folles images qui se jouent de nos perceptions envahissent affiches\, pochettes de disques\, posters\, livres et magazines.\nMêlant influences surréalistes\, psychédéliques et art déco\, des créateurs investissent le champ des arts graphiques.\nLe parcours proposé ne prétend pas à l’exhaustivité mais ambitionne de vous offrir un voyage pictural rare. \nVernissage vendredi 22 mars à 18h \nDU 12 MARS AU 25 MAI EN SALLE D’ANIMATION
URL:https://www.ville-meze.fr/evenements/exposition-3/
LOCATION:à la Médiathèque Andrée Chedid
CATEGORIES:Culture
END:VEVENT
BEGIN:VEVENT
DTSTART;TZID=Europe/Paris:20240312T103000
DTEND;TZID=Europe/Paris:20240312T113000
DTSTAMP:20260420T023857
CREATED:20240306T143155Z
LAST-MODIFIED:20240306T143155Z
UID:7348-1710239400-1710243000@www.ville-meze.fr
SUMMARY:Conférence
DESCRIPTION:OLYMPE DE GOUGES \nProposé par La Malle d‘aventures \nOlympe de Gouges est une héroïne révolutionnaire considérée comme l’une des premières féministes françaises\, mais elle fut également une adversaire résolue du système esclavagiste.
URL:https://www.ville-meze.fr/evenements/conference-7/
LOCATION:à la Médiathèque Andrée Chedid
CATEGORIES:Culture
END:VEVENT
BEGIN:VEVENT
DTSTART;TZID=Europe/Paris:20240313T100000
DTEND;TZID=Europe/Paris:20240313T120000
DTSTAMP:20260420T023857
CREATED:20240306T143355Z
LAST-MODIFIED:20240306T143355Z
UID:7350-1710324000-1710331200@www.ville-meze.fr
SUMMARY:Jeux de société
DESCRIPTION:Animé par l’association HOMO LUDENS \nMatinée jeux de société à découvrir en famille \nA partir de 4 ans
URL:https://www.ville-meze.fr/evenements/jeux-de-societe/
LOCATION:à la Médiathèque Andrée Chedid
CATEGORIES:Culture
END:VEVENT
BEGIN:VEVENT
DTSTART;TZID=Europe/Paris:20240313T160000
DTEND;TZID=Europe/Paris:20240313T170000
DTSTAMP:20260420T023857
CREATED:20240306T143546Z
LAST-MODIFIED:20240306T143546Z
UID:7352-1710345600-1710349200@www.ville-meze.fr
SUMMARY:Lirocafé
DESCRIPTION:Un moment de rencontre durant lequel on partage ses lectures coups de cœur en toute convivialité. Bandes dessinées\, romans\, polars\, biographies\, récents ou non\, tous les genres sont les bienvenus.
URL:https://www.ville-meze.fr/evenements/lirocafe-2/
LOCATION:à la Médiathèque Andrée Chedid
CATEGORIES:Culture
END:VEVENT
BEGIN:VEVENT
DTSTART;TZID=Europe/Paris:20240314T203000
DTEND;TZID=Europe/Paris:20240314T220000
DTSTAMP:20260420T023857
CREATED:20231227T062032Z
LAST-MODIFIED:20240305T105532Z
UID:3337-1710448200-1710453600@www.ville-meze.fr
SUMMARY:Ciné-thème
DESCRIPTION:Ciné-thème « Des Femmes et des arts » à 20h30 « Papicha » de Mounia Meddour au cinéma municipal Le Taurus | tarif adultes 5€ \nDrame 2019 France\, Belgique\, Algérie\, Qatar 1h48 | Avec Lyna Khoudri\, Shirine Boutella\, Hilda Amira Douaouda… \nAlger\, années 90. Nedjma\, 18 ans\, étudiante habitant la cité universitaire\, rêve de devenir styliste. A la nuit tombée\, elle se faufile à travers les mailles du grillage de la Cité avec ses meilleures amies pour rejoindre la boîte de nuit où elle vend ses créations aux  » papichas « \, jolies jeunes filles algéroises. La situation politique et sociale du pays ne cesse de se dégrader. Refusant cette fatalité\, Nedjma décide de se battre pour sa liberté en organisant un défilé de mode\, bravant ainsi tous les interdits.
URL:https://www.ville-meze.fr/evenements/cine-theme-10/
LOCATION:au cinéma municipal Le Taurus
CATEGORIES:Culture
ATTACH;FMTTYPE=image/jpeg:https://www.ville-meze.fr/app/uploads/2023/12/papicha.jpg
END:VEVENT
BEGIN:VEVENT
DTSTART;TZID=Europe/Paris:20240315T153000
DTEND;TZID=Europe/Paris:20240315T170000
DTSTAMP:20260420T023857
CREATED:20240306T143713Z
LAST-MODIFIED:20240306T143713Z
UID:7354-1710516600-1710522000@www.ville-meze.fr
SUMMARY:Atelier
DESCRIPTION:ATELIER D’ECRITURE\nAnimé par Alain Huet \nBien’Thau le Printemps nouveau …\nQu’en Grâce de vos écritures …\nfleurissent en émois et en joie…
URL:https://www.ville-meze.fr/evenements/atelier-3/
LOCATION:à la Médiathèque Andrée Chedid
CATEGORIES:Culture
END:VEVENT
BEGIN:VEVENT
DTSTART;TZID=Europe/Paris:20240315T183000
DTEND;TZID=Europe/Paris:20240315T193000
DTSTAMP:20260420T023857
CREATED:20240306T143924Z
LAST-MODIFIED:20240306T143924Z
UID:7356-1710527400-1710531000@www.ville-meze.fr
SUMMARY:Musique et poésie
DESCRIPTION:MELI-MELO MUSIQUES ET POESIES\nCo animé par l’atelier d’écriture et le Conservatoire\nTHÈME : « LA GRÂCE » \nDans le cadre du printemps de poètes\, nous vous invitons à découvrir les textes produits lors des ateliers d’écriture\, mis en musique par les élèves et les professeurs du Conservatoire. \nTout public
URL:https://www.ville-meze.fr/evenements/musique-et-poesie/
LOCATION:à la Médiathèque Andrée Chedid
CATEGORIES:Culture
END:VEVENT
BEGIN:VEVENT
DTSTART;TZID=Europe/Paris:20240315T203000
DTEND;TZID=Europe/Paris:20240315T220000
DTSTAMP:20260420T023857
CREATED:20231227T062217Z
LAST-MODIFIED:20240131T082214Z
UID:3338-1710534600-1710540000@www.ville-meze.fr
SUMMARY:Théâtre
DESCRIPTION:Théâtre MADAM #3 par la Cie Exit \nManuel d’Auto-Défense À Méditer\, un carnet de voyage en six épisodes sur la construction de nos identités. MADAM #3 est un évènement sportif et linguistique : « Scoreuses – parce que tu ne peux que perdre si tu n’as rien à gagner.» \nElles sont sportives de très haut niveau. Leur but dans la vie : en marquer le plus possible ! \nTarifs : 12€\, 10€\, 8€ | durée 1h15 | en famille 11 ans et +
URL:https://www.ville-meze.fr/evenements/theatre-32/
LOCATION:à la salle Jeanne-Oulié\, Foyer Municipal\, Rue Sadi Carnot
CATEGORIES:Culture
ATTACH;FMTTYPE=image/jpeg:https://www.ville-meze.fr/app/uploads/2023/12/madam3.jpg
END:VEVENT
BEGIN:VEVENT
DTSTART;TZID=Europe/Paris:20240316T103000
DTEND;TZID=Europe/Paris:20240316T113000
DTSTAMP:20260420T023857
CREATED:20240306T144123Z
LAST-MODIFIED:20240306T144123Z
UID:7358-1710585000-1710588600@www.ville-meze.fr
SUMMARY:Spectacle
DESCRIPTION:NARINELLI\nPar la cie Miss Bouillon \nSpectacle de marionnette portée qui aborde le thème de l’odeur de l’être aimé puis déambulation de la marionnette dans la médiathèque à la rencontre des publics. \nTout public à partir de 7 ans .
URL:https://www.ville-meze.fr/evenements/spectacle-3/
LOCATION:à la Médiathèque Andrée Chedid
CATEGORIES:Culture
END:VEVENT
BEGIN:VEVENT
DTSTART;TZID=Europe/Paris:20240320T093000
DTEND;TZID=Europe/Paris:20240320T113000
DTSTAMP:20260420T023857
CREATED:20240306T144249Z
LAST-MODIFIED:20240306T144249Z
UID:7360-1710927000-1710934200@www.ville-meze.fr
SUMMARY:Matinée des bébés
DESCRIPTION:L’espace petite enfance se transforme en zone d’exploration et de découvertes ! \nTout-petits de 0 à 3 ans.
URL:https://www.ville-meze.fr/evenements/matinee-des-bebes-3/
LOCATION:à la Médiathèque Andrée Chedid
CATEGORIES:Culture
END:VEVENT
BEGIN:VEVENT
DTSTART;TZID=Europe/Paris:20240320T143000
DTEND;TZID=Europe/Paris:20240320T160000
DTSTAMP:20260420T023857
CREATED:20240306T144843Z
LAST-MODIFIED:20240306T144843Z
UID:7364-1710945000-1710950400@www.ville-meze.fr
SUMMARY:Atelier
DESCRIPTION:ATELIER POLYORAMA \nUn atelier pour explorer la thématique du mensonge à travers le Polyorama\,\nune boite d’optique.\nViens découvrir cette curiosité\, qui fait partie du patrimoine du cinéma.\nNous dessinerons un monde parallèle\, imaginaire et fantastique\, caché dans la photo\, qui n’apparaîtra qu’à travers une source lumineuse dans la boîte d’optique. \nATELIER PARENT/ENFANT\, À PARTIR DE 6 ANS
URL:https://www.ville-meze.fr/evenements/atelier-4/
LOCATION:à la Médiathèque Andrée Chedid
CATEGORIES:Culture
END:VEVENT
BEGIN:VEVENT
DTSTART;TZID=Europe/Paris:20240321T093000
DTEND;TZID=Europe/Paris:20240321T120000
DTSTAMP:20260420T023857
CREATED:20231226T071955Z
LAST-MODIFIED:20240131T082454Z
UID:3328-1711013400-1711022400@www.ville-meze.fr
SUMMARY:Pièce chorégraphique
DESCRIPTION:Petite enfance « Feuilles » par la Compagnie KD Danse \n9h30 et 10h45  \nIci\, on suit tout simplement la danseuse dans sa découverte des objets et des couleurs inspirés des toiles de Mondrian. Une pièce chorégraphique qui recèle bien des surprises et dévoile un univers poétique ! \nTarifs : 6€\, 4€\, 4€ | Crèches et en famille 18 mois et + | durée 25 min.
URL:https://www.ville-meze.fr/evenements/piece-choregraphique/
LOCATION:à la salle Jeanne-Oulié\, Foyer Municipal\, Rue Sadi Carnot
CATEGORIES:Culture
ATTACH;FMTTYPE=image/jpeg:https://www.ville-meze.fr/app/uploads/2023/12/alainscherer_feuilles_sel.jpg
END:VEVENT
BEGIN:VEVENT
DTSTART;TZID=Europe/Paris:20240321T200000
DTEND;TZID=Europe/Paris:20240321T210000
DTSTAMP:20260420T023857
CREATED:20231226T072347Z
LAST-MODIFIED:20240305T105823Z
UID:3329-1711051200-1711054800@www.ville-meze.fr
SUMMARY:Ciné-culte
DESCRIPTION:Ciné-culte « Blade Runner » de Ridley Scott à 20h au cinéma municipal Le Taurus | tarif adultes 5€ \nScience-Fiction de Ridley Scott (1982 reprise 2023 USA 1h57) Avec Harrison Ford\, Rutger Hauer\, Sean Young… \nAvertissement : des scènes\, des propos ou des images peuvent heurter la sensibilité des spectateurs \nFin du 20e siècle\, des milliers d’hommes et de femmes partent à la conquête de l’espace\, fuyant les mégalopoles devenues insalubres. Sur les colonies\, une nouvelle race d’esclaves voit le jour : les répliquants\, des androïdes que rien ne peut distinguer de l’être humain. Un agent d’une unité spéciale\, un blade-runner\, est chargé d’éliminer quatre d’entre eux déclarés « hors la loi ».
URL:https://www.ville-meze.fr/evenements/cine-culte-20/
LOCATION:au cinéma municipal Le Taurus
CATEGORIES:Culture
ATTACH;FMTTYPE=image/jpeg:https://www.ville-meze.fr/app/uploads/2023/12/blade-runner.jpg
END:VEVENT
BEGIN:VEVENT
DTSTART;TZID=Europe/Paris:20240325T180000
DTEND;TZID=Europe/Paris:20240325T190000
DTSTAMP:20260420T023857
CREATED:20231227T062704Z
LAST-MODIFIED:20240305T110248Z
UID:3340-1711389600-1711393200@www.ville-meze.fr
SUMMARY:Ciné-conférence Altaïr
DESCRIPTION:Ciné-conférence Altaïr « Maroc\, Amazirh\, une année berbère » de Louis-Marie et Élise Blanchard à 18h documentaire et rencontre avec les réalisateurs au cinéma municipal Le Taurus |tarifs 8€ /6€ /4€ pour les – de 18 ans \nAu rythme de la marche ou du pas d’un mulet\, le film nous entraîne à la découverte en profondeur d’une magnifique vallée isolée du Haut-Atlas marocain\, qui échappe encore à la standardisation générale. De nombreux séjours dans ces hautes vallées ont permis aux auteurs de tisser peu à peu des liens privilégiés avec les habitants\, leur présence étant librement acceptée. \n 
URL:https://www.ville-meze.fr/evenements/cine-conference-altair-15/
LOCATION:au cinéma municipal Le Taurus
CATEGORIES:Culture
ATTACH;FMTTYPE=image/jpeg:https://www.ville-meze.fr/app/uploads/2023/12/maroc.jpg
END:VEVENT
BEGIN:VEVENT
DTSTART;TZID=Europe/Paris:20240328T100000
DTEND;TZID=Europe/Paris:20240328T110000
DTSTAMP:20260420T023857
CREATED:20240321T095112Z
LAST-MODIFIED:20240321T095112Z
UID:8095-1711620000-1711623600@www.ville-meze.fr
SUMMARY:Ciné-crèche
DESCRIPTION:Ciné-crèche « Capelito fait son cinéma » de Rodolfo Pastor \nCapelito\, le petit champignon des bois\, met au service des arts son petit nez magique pour devenir cinéaste\, danseur\, chanteur\, bref un vrai artiste. Au programme 8 courts-métrages !
URL:https://www.ville-meze.fr/evenements/cine-creche/
LOCATION:au cinéma municipal Le Taurus
CATEGORIES:Culture
ATTACH;FMTTYPE=image/jpeg:https://www.ville-meze.fr/app/uploads/2024/03/capelito-fait-son-cinema-002.jpg
END:VEVENT
BEGIN:VEVENT
DTSTART;TZID=Europe/Paris:20240328T203000
DTEND;TZID=Europe/Paris:20240328T220000
DTSTAMP:20260420T023857
CREATED:20240321T095227Z
LAST-MODIFIED:20240321T095227Z
UID:8110-1711657800-1711663200@www.ville-meze.fr
SUMMARY:Ciné-débat
DESCRIPTION:Ciné-débat en partenariat avec Amnesty International de Sète dans le cadre du festival « Au cinéma pour les droits humains » \nProjection du documentaire « La Vie devant elle » de Manon Loizeau suivie d’une discussion en présence de la réalisatrice au cinéma municipal Le Taurus | tarif adultes 5€ \nLe journal intime de l’exil d’une jeune Afghane de 14 ans\, Elaha\, qui a décidé de prendre une petite caméra pour raconter son histoire. \n 
URL:https://www.ville-meze.fr/evenements/cine-debat/
LOCATION:au cinéma municipal Le Taurus
CATEGORIES:Culture
ATTACH;FMTTYPE=image/jpeg:https://www.ville-meze.fr/app/uploads/2024/03/laviedevantelle-002.jpg
END:VEVENT
BEGIN:VEVENT
DTSTART;TZID=Europe/Paris:20240402T200000
DTEND;TZID=Europe/Paris:20240403T220000
DTSTAMP:20260420T023857
CREATED:20231227T131839Z
LAST-MODIFIED:20240305T153508Z
UID:3342-1712088000-1712181600@www.ville-meze.fr
SUMMARY:Cirque
DESCRIPTION:Mardi 2 et mercredi 3 avril  \nCirque sous yourte en partenariat avec le TMS « Un soir chez Boris » par la Cie D’un ours 20h parc du Château de Girard \ntarifs de 8€ à 14€ | tout public 8 ans et + |durée 1h | Placement libre | \nRencontre avec l’équipe artistique à l’issue de la représentation \nContact : Théâtre Molière de Sète\, scène nationale archipel de Thau\, billetterie : 04 67 74 02 02| location@tmsete.com| \nEn savoir plus sur https://tmsete.com/saisons/2023-2024/un-soir-chez-boris \nPasser un soir chez Boris\, c’est partager un moment singulier dans la tête d’un funambule hirsute\, plus poète que son accoutrement de trappeur ne le laisse présager.
URL:https://www.ville-meze.fr/evenements/cirque-2/
LOCATION:dans le parc du château
CATEGORIES:Culture
ATTACH;FMTTYPE=image/jpeg:https://www.ville-meze.fr/app/uploads/2023/12/un-soir-chez-borisyragael-gervais-3-1350x608-002.jpg
END:VEVENT
BEGIN:VEVENT
DTSTART;TZID=Europe/Paris:20240403T093000
DTEND;TZID=Europe/Paris:20240403T113000
DTSTAMP:20260420T023857
CREATED:20240306T145006Z
LAST-MODIFIED:20240306T145006Z
UID:7366-1712136600-1712143800@www.ville-meze.fr
SUMMARY:Matinée des bébés
DESCRIPTION:L’espace petite enfance se transforme en zone d’exploration et de découvertes ! \nTout-petits de 0 à 3 ans.
URL:https://www.ville-meze.fr/evenements/matinee-des-bebes-4/
LOCATION:à la Médiathèque Andrée Chedid
CATEGORIES:Culture
END:VEVENT
BEGIN:VEVENT
DTSTART;TZID=Europe/Paris:20240404T203000
DTEND;TZID=Europe/Paris:20240404T220000
DTSTAMP:20260420T023857
CREATED:20240321T095727Z
LAST-MODIFIED:20240321T095727Z
UID:8112-1712262600-1712268000@www.ville-meze.fr
SUMMARY:Ciné-rencontre
DESCRIPTION:Projection du film « La Ferme florale de Camille » en présence de la réalisatrice Caroline Breton et de « Jardins élevant »\, ferme florale de Vias qui tiendra un stand de fleurs coupées au cinéma municipal Le Taurus | tarif adultes 5€ \nCamille\, cheffe d’exploitation en Aveyron\, cultive des fleurs sur 7 000 m2\, à 800 m d’altitude. Elle a fait le pari de planter des fleurs locales\, de saison et sans pesticide.
URL:https://www.ville-meze.fr/evenements/cine-rencontre/
LOCATION:au cinéma municipal Le Taurus
CATEGORIES:Culture
ATTACH;FMTTYPE=image/jpeg:https://www.ville-meze.fr/app/uploads/2024/03/la-ferme-florale-de-camille-002.jpg
END:VEVENT
BEGIN:VEVENT
DTSTART;TZID=Europe/Paris:20240405T180000
DTEND;TZID=Europe/Paris:20240405T190000
DTSTAMP:20260420T023857
CREATED:20240306T145230Z
LAST-MODIFIED:20240306T145230Z
UID:7368-1712340000-1712343600@www.ville-meze.fr
SUMMARY:Soirée polar
DESCRIPTION:Dévorons le polar\nAnimé par l‘association La Noir‘Rode \nLe polar méditerranéen est-il plus gourmand que le roman policier venu du nord?Tout du moins\, les auteurs du sud ont-ils plus tendance à décrire ce moment convivial qu’est un bon repas\, à s’épancher sur un plat ou sur une recette ?\nCe n’est pas une certitude… \nL’association La Noir’Rôde propose au public une promenade littéraire et gastronomique qui nous fera faire le tour de la Méditerranée.\nA chaque étape de notre voyage\, lectures et dégustations sont offertes au public\npour un voyage qui se veut tour à tour culturel et gastronomique.\nNe boudons donc pas notre plaisir !\nDévorons des livres. Savourons des bons plat. Et vice-versa. \n> Public adulte\, sur inscription
URL:https://www.ville-meze.fr/evenements/soiree-polar/
LOCATION:à la Médiathèque Andrée Chedid
CATEGORIES:Culture
END:VEVENT
BEGIN:VEVENT
DTSTART;TZID=Europe/Paris:20240406T093000
DTEND;TZID=Europe/Paris:20240406T170000
DTSTAMP:20260420T023857
CREATED:20240321T095924Z
LAST-MODIFIED:20240321T095924Z
UID:8114-1712395800-1712422800@www.ville-meze.fr
SUMMARY:Pocket film
DESCRIPTION:Pocket film « Filme ton expression » animé par la réalisatrice Laurence Kirsch de 9h30 à 17h atelier dès 8 ans au cinéma municipal Le Taurus | gratuit sur inscription à cinema-taurus@ville-meze.fr \nLes courts métrages réalisés avec un smartphone seront ensuite projetés en début de séance les soirs du 25 avril au 14 mai et lors de la présentation du projet suivie d’un pot offert par la Ville de Mèze\, jeudi 25 avril à 18h30
URL:https://www.ville-meze.fr/evenements/pocket-film/
LOCATION:au cinéma municipal Le Taurus
CATEGORIES:Culture
ATTACH;FMTTYPE=image/jpeg:https://www.ville-meze.fr/app/uploads/2024/03/pocketfilm-002.jpg
END:VEVENT
BEGIN:VEVENT
DTSTART;TZID=Europe/Paris:20240406T103000
DTEND;TZID=Europe/Paris:20240406T120000
DTSTAMP:20260420T023857
CREATED:20240306T145413Z
LAST-MODIFIED:20240321T100308Z
UID:7370-1712399400-1712404800@www.ville-meze.fr
SUMMARY:Ciné-conte
DESCRIPTION:Ciné-conte en partenariat avec la médiathèque Andrée Chedid \nLecture et film d’animation « Ollie et compagnie » de Anton Setola au cinéma municipal Le Taurus     tarif unique 4€ \nEn plein cœur d’une ville grouillante\, un petit parc\, fermé et oublié\, où vivent Ollie et ses amis. Leurs aventures en neuf chapitres !
URL:https://www.ville-meze.fr/evenements/cine-conte/
LOCATION:au cinéma municipal Le Taurus
CATEGORIES:Culture
ATTACH;FMTTYPE=image/jpeg:https://www.ville-meze.fr/app/uploads/2024/03/ollie-et-compagnie-002.jpg
END:VEVENT
BEGIN:VEVENT
DTSTART;TZID=Europe/Paris:20240406T200000
DTEND;TZID=Europe/Paris:20240406T220000
DTSTAMP:20260420T023857
CREATED:20240130T092749Z
LAST-MODIFIED:20240130T145732Z
UID:6195-1712433600-1712440800@www.ville-meze.fr
SUMMARY:Apéro-concert # 2
DESCRIPTION:ECHOES\, a tribute to Pink Floyd \nVoyage musical en immersion totale dans l’univers de Pink Floyd. \nUn simple son\, reconnaissable entre mille : des battements de cœur\, puis quelques accords mythiques… Ainsi commence Dark Side of the Moon. L’illusion est totale : le rock atmosphérique de Pink Floyd envahit littéralement l’espace et envoûtent les oreilles.   \nDepuis presque 20 ans\, le groupe montpelliérain Echoes s’est donné pour mission de faire découvrir ou redécouvrir ce groupe culte qui a révolutionné la musique occidentale.  \nLeur concert se vit comme un voyage immersif dans l’univers psychédélique des Pink Floyd : les musiciens d’Echoes recherchent à la note près le son issu des albums du groupe.  \n19h : ouverture des portes \n bar et petite restauration sur place \n20h : concert \nRencontre avec les artistes à l’issue du concert. \nTarifs  \nPrévente 15 €* /Sur place 18 €*/ Gratuit -12ans\n(hors frais de location éventuels) \nBilletterie : festivaldethau.com
URL:https://www.ville-meze.fr/evenements/apero-concert-2/
CATEGORIES:Culture
ATTACH;FMTTYPE=image/jpeg:https://www.ville-meze.fr/app/uploads/2024/01/echoes_festivaldethau.jpg
END:VEVENT
BEGIN:VEVENT
DTSTART;TZID=Europe/Paris:20240408T103000
DTEND;TZID=Europe/Paris:20240408T113000
DTSTAMP:20260420T023857
CREATED:20240308T095144Z
LAST-MODIFIED:20240321T100523Z
UID:7559-1712572200-1712575800@www.ville-meze.fr
SUMMARY:Ciné-pitchoun
DESCRIPTION:Ciné-pitchoun à 10h30 film d’animation « Les Fées sorcières » + atelier « Fabrique ta fée sorcière » sur inscription à cinema-taurus@ville-meze.fr au cinéma municipal Le Taurus |tarif unique 4€ \nIl était une fois deux fées et deux sorcières qui ne se connaissent pas et… qui ne se rencontreront jamais. Pourtant le hasard de la vie va les réunir autour d’un même chemin. \n 
URL:https://www.ville-meze.fr/evenements/cine-pitchoun-3/
LOCATION:au cinéma municipal Le Taurus
CATEGORIES:Culture
ATTACH;FMTTYPE=image/jpeg:https://www.ville-meze.fr/app/uploads/2024/03/les-fees-sorcieres-002.jpg
END:VEVENT
BEGIN:VEVENT
DTSTART;TZID=Europe/Paris:20240410T103000
DTEND;TZID=Europe/Paris:20240410T113000
DTSTAMP:20260420T023857
CREATED:20240306T145549Z
LAST-MODIFIED:20240306T145549Z
UID:7372-1712745000-1712748600@www.ville-meze.fr
SUMMARY:Atelier
DESCRIPTION:MYSTÈRE DES EMPREINTES !\nAnimé par l‘association les savants fou \nLa police scientifique utilise diverses empreintes relevées sur une scène de crime.\nDurant cet atelier nous détaillerons les parties du corps humain qui peuvent laisser une trace sur un objet\, Rigolades assurée ! \n> de 8 à 12 ans\, sur inscription
URL:https://www.ville-meze.fr/evenements/atelier-5/
LOCATION:à la Médiathèque Andrée Chedid
CATEGORIES:Culture
END:VEVENT
BEGIN:VEVENT
DTSTART;TZID=Europe/Paris:20240410T140000
DTEND;TZID=Europe/Paris:20240410T160000
DTSTAMP:20260420T023857
CREATED:20240321T100722Z
LAST-MODIFIED:20240321T100722Z
UID:8118-1712757600-1712764800@www.ville-meze.fr
SUMMARY:Ciné-culte
DESCRIPTION:Ciné-culte en partenariat avec L’Espace jeunes de la Ville de Mèze dans le cadre du « Parcours cinéma » \nProjection de « Jurassic Park » de Steven Spielberg au cinéma municipal Le Taurus | tarif adultes 5€ \nNe pas réveiller le chat qui dort… C’est ce que le milliardaire John Hammond aurait dû se rappeler avant de se lancer dans le « clonage » de dinosaures et ouvrir le plus grand parc à thème du monde.
URL:https://www.ville-meze.fr/evenements/cine-culte-3/
LOCATION:au cinéma municipal Le Taurus
CATEGORIES:Culture
ATTACH;FMTTYPE=image/jpeg:https://www.ville-meze.fr/app/uploads/2024/03/jurassic-park-retour-002.jpg
END:VEVENT
BEGIN:VEVENT
DTSTART;TZID=Europe/Paris:20240410T160000
DTEND;TZID=Europe/Paris:20240410T170000
DTSTAMP:20260420T023857
CREATED:20240306T145728Z
LAST-MODIFIED:20240306T145728Z
UID:7374-1712764800-1712768400@www.ville-meze.fr
SUMMARY:Lirocafé
DESCRIPTION:Un moment de rencontre durant lequel on partage ses lectures coups de cœur en toute convivialité. Bandes dessinées\, romans\, polars\, biographies\, récents ou non\, tous les genres sont les bienvenus.
URL:https://www.ville-meze.fr/evenements/lirocafe-3/
LOCATION:à la Médiathèque Andrée Chedid
CATEGORIES:Culture
END:VEVENT
BEGIN:VEVENT
DTSTART;TZID=Europe/Paris:20240411T103000
DTEND;TZID=Europe/Paris:20240411T120000
DTSTAMP:20260420T023857
CREATED:20240321T100855Z
LAST-MODIFIED:20240321T100855Z
UID:8120-1712831400-1712836800@www.ville-meze.fr
SUMMARY:Ciné-pitchoun
DESCRIPTION:« Piro Piro » dès 3 ans de Baek Miyoung et Min Sung-Ah + coloriage géant | tarif unique 4€ \nUn programme poétique et sensible où le talent de deux jeunes réalisatrices sud coréennes dévoile des univers aux couleurs pastel et chaleureuses. Des petits oiseaux tissent le lien entre ces 6 films\, dans lesquels on partage des instants de tendresse et d’humour.
URL:https://www.ville-meze.fr/evenements/cine-pitchoun-8/
LOCATION:au cinéma municipal Le Taurus
CATEGORIES:Culture
ATTACH;FMTTYPE=image/jpeg:https://www.ville-meze.fr/app/uploads/2024/03/piro-piro-002.jpg
END:VEVENT
BEGIN:VEVENT
DTSTART;TZID=Europe/Paris:20240411T203000
DTEND;TZID=Europe/Paris:20240411T220000
DTSTAMP:20260420T023857
CREATED:20231227T132027Z
LAST-MODIFIED:20240321T101034Z
UID:3343-1712867400-1712872800@www.ville-meze.fr
SUMMARY:Ciné-thème
DESCRIPTION:« The Greatest Showman » de Michael Gracey | tarif adultes 5€ \nInspirée par l’ambition et l’imagination de P.T Barnum\, voici l’histoire d’un visionnaire parti de rien qui a créé un spectacle devenu un phénomène planétaire.
URL:https://www.ville-meze.fr/evenements/cine-theme-11/
LOCATION:au cinéma municipal Le Taurus
CATEGORIES:Culture
ATTACH;FMTTYPE=image/jpeg:https://www.ville-meze.fr/app/uploads/2024/03/the-greatest-showman-002.jpg
END:VEVENT
END:VCALENDAR