BEGIN:VCALENDAR
VERSION:2.0
PRODID:-//Ville de Mèze - ECPv6.15.20//NONSGML v1.0//EN
CALSCALE:GREGORIAN
METHOD:PUBLISH
X-WR-CALNAME:Ville de Mèze
X-ORIGINAL-URL:https://www.ville-meze.fr
X-WR-CALDESC:Évènements pour Ville de Mèze
REFRESH-INTERVAL;VALUE=DURATION:PT1H
X-Robots-Tag:noindex
X-PUBLISHED-TTL:PT1H
BEGIN:VTIMEZONE
TZID:Europe/Paris
BEGIN:DAYLIGHT
TZOFFSETFROM:+0100
TZOFFSETTO:+0200
TZNAME:CEST
DTSTART:20230326T010000
END:DAYLIGHT
BEGIN:STANDARD
TZOFFSETFROM:+0200
TZOFFSETTO:+0100
TZNAME:CET
DTSTART:20231029T010000
END:STANDARD
BEGIN:DAYLIGHT
TZOFFSETFROM:+0100
TZOFFSETTO:+0200
TZNAME:CEST
DTSTART:20240331T010000
END:DAYLIGHT
BEGIN:STANDARD
TZOFFSETFROM:+0200
TZOFFSETTO:+0100
TZNAME:CET
DTSTART:20241027T010000
END:STANDARD
BEGIN:DAYLIGHT
TZOFFSETFROM:+0100
TZOFFSETTO:+0200
TZNAME:CEST
DTSTART:20250330T010000
END:DAYLIGHT
BEGIN:STANDARD
TZOFFSETFROM:+0200
TZOFFSETTO:+0100
TZNAME:CET
DTSTART:20251026T010000
END:STANDARD
END:VTIMEZONE
BEGIN:VEVENT
DTSTART;TZID=Europe/Paris:20240502T100000
DTEND;TZID=Europe/Paris:20240502T180000
DTSTAMP:20260420T012351
CREATED:20240207T084501Z
LAST-MODIFIED:20240402T144413Z
UID:6667-1714644000-1714672800@www.ville-meze.fr
SUMMARY:Musique
DESCRIPTION:« Au Creux de l’oreille » par la Cie Pic & Colegram \nà 10h et à 17h  \nTarifs : 6€\, 4€\, 4€ |Crèche et en famille 6 mois et + | durée 25 min. |Rencontre avec l’équipe artistique à l’issue de la représentation \nEntrez\, installez-vous et tendez l’oreille… Écoutez et laissez-vous raconter l’histoire de ces voix qui chantent\, ces paysages d’ici qui paraissent d’ailleurs\, ces comptines d’ailleurs qui semblent si familières. \nRenseignements 04 99 02 22 01 reservation@ville-meze.fr | https://www.vostickets.fr/Billet?ID=MEZE
URL:https://www.ville-meze.fr/evenements/musique/
CATEGORIES:Culture
ATTACH;FMTTYPE=image/jpeg:https://www.ville-meze.fr/app/uploads/2024/02/au-creux-de-loreille_pic-et-colegram-002.jpg
END:VEVENT
BEGIN:VEVENT
DTSTART;TZID=Europe/Paris:20240508T090000
DTEND;TZID=Europe/Paris:20240512T180000
DTSTAMP:20260420T012351
CREATED:20240314T134445Z
LAST-MODIFIED:20240314T134445Z
UID:7841-1715158800-1715536800@www.ville-meze.fr
SUMMARY:Stage de chant
DESCRIPTION:Du 8 au 12 mai\nStage de chant choral avec les voix du PIC à l’ancienne cave coopérative. \nContact inscription : Véronique Poignard\, Présidente « Les Voix du Pic » \nInfo : www.voixdupic.com – 06.75.09.74.59
URL:https://www.ville-meze.fr/evenements/stage-de-chant/
CATEGORIES:Association,Culture
END:VEVENT
BEGIN:VEVENT
DTSTART;TZID=Europe/Paris:20240510T090000
DTEND;TZID=Europe/Paris:20240525T180000
DTSTAMP:20260420T012351
CREATED:20240513T101803Z
LAST-MODIFIED:20240523T084726Z
UID:9460-1715331600-1716660000@www.ville-meze.fr
SUMMARY:Exposition « L'OANI » de Julien Martinez
DESCRIPTION:L’OANI\, Objet Artistique Non Identifié\, est un ensemble d’objets\nconçu et réalisé pour les tout-petits.\nC’est un espace disponible pour stimuler la créativité et voyager\ndans l’imaginaire.\nDe 0 à 6 ans. Sur demande auprès de vos bibliothécaires.
URL:https://www.ville-meze.fr/evenements/exposition-loani-de-julien-martinez/
LOCATION:à la Médiathèque Andrée Chedid
CATEGORIES:Culture
ATTACH;FMTTYPE=image/jpeg:https://www.ville-meze.fr/app/uploads/2024/05/oani2.jpg
END:VEVENT
BEGIN:VEVENT
DTSTART;TZID=Europe/Paris:20240511T090000
DTEND;TZID=Europe/Paris:20240512T170000
DTSTAMP:20260420T012351
CREATED:20240314T140528Z
LAST-MODIFIED:20240328T103043Z
UID:7846-1715418000-1715533200@www.ville-meze.fr
SUMMARY:Thau en Scène
DESCRIPTION:Les 11 et 12 mai\nThau en Scène\, concours de chant auditions concours de chant \nToute la journée
URL:https://www.ville-meze.fr/evenements/thau-en-scene-2/
CATEGORIES:Association,Culture
ATTACH;FMTTYPE=image/jpeg:https://www.ville-meze.fr/app/uploads/2024/03/thau_en_scene.jpg
END:VEVENT
BEGIN:VEVENT
DTSTART;TZID=Europe/Paris:20240512T120000
DTEND;TZID=Europe/Paris:20240512T140000
DTSTAMP:20260420T012351
CREATED:20240321T131812Z
LAST-MODIFIED:20240321T142949Z
UID:8141-1715515200-1715522400@www.ville-meze.fr
SUMMARY:Concert
DESCRIPTION:Aubade « Chic Planète » \nConcert de fin du stage « Song à Sète 2024 » \nPlus de 100 choristes\, venus de plusieurs régions de France\, chanteront les 7 titres travaillés durant les 4 jours de stage\, dans un très beau décor\, réalisé pour l’occasion\, par « LE CHIEN QUI DANSE » (fleuriste du quartier des Beaux-Arts à Montpellier) \nLe thème 2024 « CHIC PLANETE »\, sera l’occasion\, pour le public\, d’écouter (et de chanter\, si l’envie est trop « forte ») des titres de Zazie\, Gotainer\, Voulzy\, l’Affaire Louis Trio … et d’autres !
URL:https://www.ville-meze.fr/evenements/concert-4/
CATEGORIES:Culture
ATTACH;FMTTYPE=image/jpeg:https://www.ville-meze.fr/app/uploads/2024/03/photo_concert.jpg
END:VEVENT
BEGIN:VEVENT
DTSTART;TZID=Europe/Paris:20240515T093000
DTEND;TZID=Europe/Paris:20240515T113000
DTSTAMP:20260420T012351
CREATED:20240513T115004Z
LAST-MODIFIED:20240513T131117Z
UID:9462-1715765400-1715772600@www.ville-meze.fr
SUMMARY:Matinée des bébés « Raconte tapis Matisse »
DESCRIPTION:« Découvrez l’univers coloré de « La Perruche et la Sirène »de Matisse avec notre raconte-tapis spécialement conçu pour sensibiliser les tout-petits à l’art.\nLaissez-vous emporter par l’imaginaire !\nDe 0 à 3 ans. Entrée libre.
URL:https://www.ville-meze.fr/evenements/matinee-des-bebes-raconte-tapis-matisse/
LOCATION:à la Médiathèque Andrée Chedid
CATEGORIES:Culture
END:VEVENT
BEGIN:VEVENT
DTSTART;TZID=Europe/Paris:20240515T170000
DTEND;TZID=Europe/Paris:20240515T180000
DTSTAMP:20260420T012351
CREATED:20240207T084850Z
LAST-MODIFIED:20240402T145444Z
UID:6672-1715792400-1715796000@www.ville-meze.fr
SUMMARY:Théâtre d’objets
DESCRIPTION:Théâtre d’objet Jeune public en famille « Quand les corbeaux auront des dents » par L’Espèce de compagnie \nTarifs : 6€\, 4€\, 4€ | durée 55 min. | en famille 7 ans et + \nC’est l’histoire de la quête de maïs\, un peu folle\, d’un corbeau inconscient qui « croisse » et des corneilles qui « décroassent »… C’est un spectacle poéticoécolodéjanté où l’on se rit de la grande difficulté que nous avons\, nous\, deux pattes\, à coexister avec les créatures sauvages ! \nJeune public en famille et scolaire. \nRenseignements 04 99 02 22 01 reservation@ville-meze.fr | www.vostickets.fr/Billet/FR/representation-MEZE-24782-0.wb?REFID=L$4bAAAAAACSAA \n  \n 
URL:https://www.ville-meze.fr/evenements/theatre-dobjets/
CATEGORIES:Culture
ATTACH;FMTTYPE=image/jpeg:https://www.ville-meze.fr/app/uploads/2024/02/quandlescorbeauxisa-matras-38-002.jpg
END:VEVENT
BEGIN:VEVENT
DTSTART;TZID=Europe/Paris:20240516T200000
DTEND;TZID=Europe/Paris:20240516T210000
DTSTAMP:20260420T012351
CREATED:20231226T072557Z
LAST-MODIFIED:20240130T094451Z
UID:3330-1715889600-1715893200@www.ville-meze.fr
SUMMARY:Ciné-culte
DESCRIPTION:« Prisonnière du désert » de John Ford
URL:https://www.ville-meze.fr/evenements/cine-culte-21/
LOCATION:au cinéma municipal Le Taurus
CATEGORIES:Culture
END:VEVENT
BEGIN:VEVENT
DTSTART;TZID=Europe/Paris:20240517T203000
DTEND;TZID=Europe/Paris:20240517T220000
DTSTAMP:20260420T012351
CREATED:20240207T085138Z
LAST-MODIFIED:20240403T061248Z
UID:6674-1715977800-1715983200@www.ville-meze.fr
SUMMARY:Spectacle musical
DESCRIPTION:« Revoir les kangourous » par la Cie Les Nuits claires 20h30 Chez l’habitant\, « lieu secret dévoilé 24h avant » \nSur réservation |tarifs : 6€\, 4€\, 4€ |tout public 14 ans et + | durée 30 min. | www.vostickets.fr/Billet/FR/representation-MEZE-24783-0.wb?REFID=L$4bAAAAAACSAA \nUn soir\, Sara est sidérée par les images de kangourous brûlés par les méga feux. Un an après\, l’adolescente fugue. Sa mère tente de comprendre les raisons de sa fuite. Entre sidération face aux écocides et émerveillement face au vivant\, ce récit est l’épisode 1 de « Bienvenue ailleurs ».
URL:https://www.ville-meze.fr/evenements/spectacle-musical/
LOCATION:chez l’habitant\, adresse communiquée ultérieurement
CATEGORIES:Culture
ATTACH;FMTTYPE=image/jpeg:https://www.ville-meze.fr/app/uploads/2024/02/revoirleskangourous-002.jpg
END:VEVENT
BEGIN:VEVENT
DTSTART;TZID=Europe/Paris:20240518T103000
DTEND;TZID=Europe/Paris:20240518T123000
DTSTAMP:20260420T012351
CREATED:20240513T115034Z
LAST-MODIFIED:20240513T131657Z
UID:9467-1716028200-1716035400@www.ville-meze.fr
SUMMARY:Spectacle "Un Secret perché"
DESCRIPTION:Le spectacle est réalisé par la compagnie Marie-Louise Bouillonne. \nAlors c’est quoi ce secret ? C’est une cabane perchée-penchée\, un drôle de rocher\, un ami. Un geste dansé\, ponctué par des poèmes offre l’occasion aux enfants d’imaginer leur propre univers. Un secret à découvrir pour les tout-petits et les plus grands.\nDès 18 mois. Durée 25 minutes. Sur inscription. \n 
URL:https://www.ville-meze.fr/evenements/spectacle-un-secret-perche/
LOCATION:à la Médiathèque Andrée Chedid
CATEGORIES:Culture
END:VEVENT
BEGIN:VEVENT
DTSTART;TZID=Europe/Paris:20240522T093000
DTEND;TZID=Europe/Paris:20240522T103000
DTSTAMP:20260420T012351
CREATED:20240523T072405Z
LAST-MODIFIED:20240523T072405Z
UID:9821-1716370200-1716373800@www.ville-meze.fr
SUMMARY:Atelier Tout-petits « Eveil musical »
DESCRIPTION:Animé par l’association Une note d’éveil.\nTemps d’exploration sonore en famille Atelier chansons\, comptines et jeux de doigts avec l’association Une note d’éveil. Moment musical basé sur l’exploration instrumentale et vocale.\nDe 0 à 3 ans. Sur inscription.
URL:https://www.ville-meze.fr/evenements/atelier-tout-petits-eveil-musical-2/
LOCATION:à la Médiathèque Andrée Chedid
CATEGORIES:Culture
END:VEVENT
BEGIN:VEVENT
DTSTART;TZID=Europe/Paris:20240523T203000
DTEND;TZID=Europe/Paris:20240523T220000
DTSTAMP:20260420T012351
CREATED:20240207T085325Z
LAST-MODIFIED:20240207T085325Z
UID:6677-1716496200-1716501600@www.ville-meze.fr
SUMMARY:Ciné-thème
DESCRIPTION:« Captain Fantastic » de Matt Ross
URL:https://www.ville-meze.fr/evenements/cine-theme/
LOCATION:au cinéma municipal Le Taurus
CATEGORIES:Culture
END:VEVENT
BEGIN:VEVENT
DTSTART;TZID=Europe/Paris:20240524T100000
DTEND;TZID=Europe/Paris:20240524T180000
DTSTAMP:20260420T012351
CREATED:20240315T084237Z
LAST-MODIFIED:20240315T084237Z
UID:7894-1716544800-1716573600@www.ville-meze.fr
SUMMARY:Exposition
DESCRIPTION:Du 24 au 26 mai\nExposition collective de Thibaud Chazel\, tapissier d’ameublement\, Pruvost Magalie\, ferronnière d’art et Grandsire Alexis\, artiste peintre\, au chai de Girard. Accès libre de 10h à 18h.
URL:https://www.ville-meze.fr/evenements/exposition-4/
CATEGORIES:Culture
END:VEVENT
BEGIN:VEVENT
DTSTART;TZID=Europe/Paris:20240525T190000
DTEND;TZID=Europe/Paris:20240525T200000
DTSTAMP:20260420T012351
CREATED:20240207T085507Z
LAST-MODIFIED:20240513T133503Z
UID:6679-1716663600-1716667200@www.ville-meze.fr
SUMMARY:Lecture
DESCRIPTION:« Brève/L’Abîme ou les travailleurs de la mer » d’après Victor Hugo par La compagnie Provisoire. \nC’est l’histoire d’un pêcheur pauvre de Guernesey qui découvre enfin l’espoir d’être aimé. Plongez dans l’œuvre d’un grand écrivain… ses personnages\, des anecdotes\, un récit sur scène\, de l’émotion à partager ! \nSur réservation |tarifs : 8€\, 6€\, 4€ |durée 1h | tout public 12 ans et + | www.vostickets.fr/Billet/FR/representation-MEZE-24784-0.wb?REFID=jWQmAAAAAABaAQ \n 
URL:https://www.ville-meze.fr/evenements/lecture/
LOCATION:Bellevue « lieu précisé 24h avant »
CATEGORIES:Culture
ATTACH;FMTTYPE=image/jpeg:https://www.ville-meze.fr/app/uploads/2024/02/breve_belle_vuedudrone-002.jpg
END:VEVENT
BEGIN:VEVENT
DTSTART;TZID=Europe/Paris:20240529T180000
DTEND;TZID=Europe/Paris:20240529T190000
DTSTAMP:20260420T012351
CREATED:20240403T093905Z
LAST-MODIFIED:20240403T094044Z
UID:8734-1717005600-1717009200@www.ville-meze.fr
SUMMARY:Sérénades
DESCRIPTION:Du 29 mai au 26 juin \nSérénades du CRI tous les mercredis à 18h sur le parvis du château de Girard
URL:https://www.ville-meze.fr/evenements/serenades/
LOCATION:sur le parvis du château de Girard
CATEGORIES:Culture
END:VEVENT
BEGIN:VEVENT
DTSTART;TZID=Europe/Paris:20240530T100000
DTEND;TZID=Europe/Paris:20240530T160000
DTSTAMP:20260420T012351
CREATED:20240207T085708Z
LAST-MODIFIED:20240522T072126Z
UID:6682-1717063200-1717084800@www.ville-meze.fr
SUMMARY:Cirque
DESCRIPTION:Théâtre d’objets « Cirque fertile et sa remarquable collection de graines phénomènes » par la Compagnie Mungo 9h30 et 14h30 salle Jeanne-Oulié \nTarifs : 6€\, 4€\, 4€ | scolaire et en famille 7 ans et + | durée 50 min. \nLeçon de choses poétique ! Isa Bach\, scientifique au théâtre\, nous propose une drôle et douce immersion au cœur du mystère de la graine\, un trésor d’optimisme sans cesse renouvelé. \n 
URL:https://www.ville-meze.fr/evenements/cirque/
CATEGORIES:Culture
ATTACH;FMTTYPE=image/jpeg:https://www.ville-meze.fr/app/uploads/2024/02/cirquefertleciemungo2-002.jpg
END:VEVENT
BEGIN:VEVENT
DTSTART;TZID=Europe/Paris:20240530T203000
DTEND;TZID=Europe/Paris:20240530T220000
DTSTAMP:20260420T012351
CREATED:20240207T085853Z
LAST-MODIFIED:20240315T100809Z
UID:6684-1717101000-1717106400@www.ville-meze.fr
SUMMARY:Ciné-thème
DESCRIPTION:« Mélancholia » de Lars Von Trier
URL:https://www.ville-meze.fr/evenements/cine-theme-2/
LOCATION:au cinéma municipal Le Taurus
CATEGORIES:Culture
END:VEVENT
BEGIN:VEVENT
DTSTART;TZID=Europe/Paris:20240531T160000
DTEND;TZID=Europe/Paris:20240531T173000
DTSTAMP:20260420T012351
CREATED:20240403T094620Z
LAST-MODIFIED:20240529T084939Z
UID:8744-1717171200-1717176600@www.ville-meze.fr
SUMMARY:Représentation
DESCRIPTION:Représentation des élèves du collège de Mèze dans le cadre du « 1er juin des écritures théâtrales jeunesse »
URL:https://www.ville-meze.fr/evenements/representation/
LOCATION:au collège Jean Jaurès de Mèze
CATEGORIES:Culture
END:VEVENT
BEGIN:VEVENT
DTSTART;TZID=Europe/Paris:20240531T180000
DTEND;TZID=Europe/Paris:20240531T200000
DTSTAMP:20260420T012351
CREATED:20240513T100642Z
LAST-MODIFIED:20240513T132825Z
UID:9479-1717178400-1717185600@www.ville-meze.fr
SUMMARY:Lecture « Quelques mots pour rire... »
DESCRIPTION:Animée par Les lecteurs de l’atelier 51.\nSituations cocasses\, personnages décalés\, phrases machinales\, inventions verbales\, comique de répétition…
URL:https://www.ville-meze.fr/evenements/lecture-quelques-mots-pour-rire/
LOCATION:à la Médiathèque Andrée Chedid
CATEGORIES:Culture
END:VEVENT
BEGIN:VEVENT
DTSTART;TZID=Europe/Paris:20240531T180000
DTEND;TZID=Europe/Paris:20240531T200000
DTSTAMP:20260420T012351
CREATED:20240530T090702Z
LAST-MODIFIED:20240530T090702Z
UID:10218-1717178400-1717185600@www.ville-meze.fr
SUMMARY:Film découverte
DESCRIPTION:Projection du film « Sur le tracé de la Via Domitia » de Beaucaire au Perthus\, de Alain Tomas.\nProposé par l’Association « Si la Via Domitia m’était contée » Sur les Pas des Romains. \nAu chai de Girard.
URL:https://www.ville-meze.fr/evenements/film-decouverte/
CATEGORIES:Culture
ATTACH;FMTTYPE=image/png:https://www.ville-meze.fr/app/uploads/2024/05/affiche-film-decouverte.png
END:VEVENT
BEGIN:VEVENT
DTSTART;TZID=Europe/Paris:20240601T100000
DTEND;TZID=Europe/Paris:20240601T170000
DTSTAMP:20260420T012351
CREATED:20240403T095302Z
LAST-MODIFIED:20240516T092630Z
UID:8748-1717236000-1717261200@www.ville-meze.fr
SUMMARY:Animation
DESCRIPTION:Mario kart sur l’esplanade : Le matin à 10h\, tournoi sur consoles à la médiathèque et l’après-midi de 14h30 à 17h\, circuit avec des karts à pédales sur l’esplanade en partenariat avec Hérault Sport. \nSur inscription\, à partir de 7 ans.
URL:https://www.ville-meze.fr/evenements/animation/
LOCATION:à la médiathèque Andrée Chedid et sur l’esplanade
CATEGORIES:Culture
END:VEVENT
BEGIN:VEVENT
DTSTART;TZID=Europe/Paris:20240601T180000
DTEND;TZID=Europe/Paris:20240601T200000
DTSTAMP:20260420T012351
CREATED:20240207T135505Z
LAST-MODIFIED:20240516T095319Z
UID:6691-1717264800-1717272000@www.ville-meze.fr
SUMMARY:Journée des écritures théâtrales jeunesse
DESCRIPTION:Représentation des élèves du collège de Mèze dans le cadre du « 1er juin des écritures théâtrales jeunesse »\nTrois lectures théâtralisées d’extraits de pièces en présence de l’auteur\, Stéphane Bientz et de Sabine Chevalier des Editions Espaces 34. \n\nLe Goût du sel par des élèves en 6ème au Collège Jean-Jaurès de Mèze.\nHématome(s) par la Compagnie Là-bas théâtre.\nVivantes ! par le groupe Workshop À Voix haute.
URL:https://www.ville-meze.fr/evenements/journee-des-ecritures-theatrales-jeunesse/
CATEGORIES:Culture
END:VEVENT
BEGIN:VEVENT
DTSTART;TZID=Europe/Paris:20240605T180000
DTEND;TZID=Europe/Paris:20240605T190000
DTSTAMP:20260420T012351
CREATED:20240403T094128Z
LAST-MODIFIED:20240403T094128Z
UID:8736-1717610400-1717614000@www.ville-meze.fr
SUMMARY:Sérénades
DESCRIPTION:Du 29 mai au 26 juin \nSérénades du CRI tous les mercredis à 18h sur le parvis du château de Girard
URL:https://www.ville-meze.fr/evenements/serenades-2/
LOCATION:sur le parvis du château de Girard
CATEGORIES:Culture
END:VEVENT
BEGIN:VEVENT
DTSTART;TZID=Europe/Paris:20240608T210000
DTEND;TZID=Europe/Paris:20240608T230000
DTSTAMP:20260420T012351
CREATED:20240516T123708Z
LAST-MODIFIED:20240521T125849Z
UID:9634-1717880400-1717887600@www.ville-meze.fr
SUMMARY:Spectacle en forêt de nuit « Fictions animales »
DESCRIPTION:Spectacle théâtral immersif de nuit « Fictions animales ». Vous aimez les fables et les énigmes ? Rejoignez-nous en famille pour une expérience hors du commun. La compagnie Retour d’Ulysse vous propose de sortir du cadre et de vous évader. \nPour la déambulation nocturne\, vous aurez besoin d’une lampe frontale\, d’un petit siège pliable ou d’un coussin pour s’asseoir par terre\, d’une paire de chaussures confortables\, d’un vêtement en plus pour les températures de nuit et d’un anti-moustique. \n  \nTout public dès 12 ans. Tarif: 12 €\, 10 €\, 8 €.\nSous réservation sur la billetterie en prévente uniquement à : reservation@ville-meze.fr
URL:https://www.ville-meze.fr/evenements/spectacle-en-foret-de-nuit-fictions-animales/
LOCATION:lieu de rdv précisé la veille
CATEGORIES:Culture
ATTACH;FMTTYPE=image/jpeg:https://www.ville-meze.fr/app/uploads/2024/05/theatreimmersifenforet-scaled.jpg
END:VEVENT
BEGIN:VEVENT
DTSTART;TZID=Europe/Paris:20240612T180000
DTEND;TZID=Europe/Paris:20240612T190000
DTSTAMP:20260420T012351
CREATED:20240403T094238Z
LAST-MODIFIED:20240403T094238Z
UID:8738-1718215200-1718218800@www.ville-meze.fr
SUMMARY:Sérénades
DESCRIPTION:Du 29 mai au 26 juin \nSérénades du CRI tous les mercredis à 18h sur le parvis du château de Girard
URL:https://www.ville-meze.fr/evenements/serenades-3/
LOCATION:sur le parvis du château de Girard
CATEGORIES:Culture
END:VEVENT
BEGIN:VEVENT
DTSTART;TZID=Europe/Paris:20240613T200000
DTEND;TZID=Europe/Paris:20240613T210000
DTSTAMP:20260420T012351
CREATED:20231226T072745Z
LAST-MODIFIED:20240516T132122Z
UID:3331-1718308800-1718312400@www.ville-meze.fr
SUMMARY:Ciné-culte
DESCRIPTION:Sport et cinéma « Raging Bull » de Martin Scorsese. \nRétrospective ciné-culte proposée dans le cadre des Jeux Olympiques 2024 !
URL:https://www.ville-meze.fr/evenements/cine-culte-22/
LOCATION:au cinéma municipal Le Taurus
CATEGORIES:Culture
ATTACH;FMTTYPE=image/png:https://www.ville-meze.fr/app/uploads/2023/12/afsportcinema2-1.png
END:VEVENT
BEGIN:VEVENT
DTSTART;TZID=Europe/Paris:20240614T203000
DTEND;TZID=Europe/Paris:20240614T213000
DTSTAMP:20260420T012351
CREATED:20240207T135958Z
LAST-MODIFIED:20240603T145524Z
UID:6696-1718397000-1718400600@www.ville-meze.fr
SUMMARY:Cent mètres papillon
DESCRIPTION:Théâtre par le Collectif Collette. \nL’histoire de Larie\, un adolescent épris de natation.\nAu rythme de rudes entrainements\, et de compétitions éprouvantes\, il rêve d’être un grand champion.\nC’est aussi l’histoire de Maxime Taffanel\, nageur de haut niveau devenu comédien\, l’histoire de son corps poisson devenu corps de scène\, happé par le chant des sirènes. \nRenseignements 04 99 02 22 01 ou reservation@ville-meze.fr \nTarifs : 12€\, 10€\, 8€ \nBilletterie en ligne sur https://www.vostickets.fr/Billet?ID=MEZE
URL:https://www.ville-meze.fr/evenements/theatre/
CATEGORIES:Culture
ATTACH;FMTTYPE=image/jpeg:https://www.ville-meze.fr/app/uploads/2024/02/100mpapillon_photo-romain-capelle.jpg
END:VEVENT
BEGIN:VEVENT
DTSTART;TZID=Europe/Paris:20240616T183000
DTEND;TZID=Europe/Paris:20240616T203000
DTSTAMP:20260420T012351
CREATED:20240516T133555Z
LAST-MODIFIED:20240516T133555Z
UID:9658-1718562600-1718569800@www.ville-meze.fr
SUMMARY:Ciné-culte
DESCRIPTION:Le sommet des Dieux de Patrick Imbert.\nRétrospective ciné-culte proposée dans le cadre des Jeux Olympiques 2024 !
URL:https://www.ville-meze.fr/evenements/cine-culte-4/
LOCATION:au cinéma municipal Le Taurus
CATEGORIES:Culture
ATTACH;FMTTYPE=image/png:https://www.ville-meze.fr/app/uploads/2024/05/sommet-dieux2-1.png
END:VEVENT
BEGIN:VEVENT
DTSTART;TZID=Europe/Paris:20240616T190000
DTEND;TZID=Europe/Paris:20240616T210000
DTSTAMP:20260420T012351
CREATED:20240403T123954Z
LAST-MODIFIED:20240403T123954Z
UID:8769-1718564400-1718571600@www.ville-meze.fr
SUMMARY:Concert
DESCRIPTION:Chorale Chœur d’ici et d’ailleurs
URL:https://www.ville-meze.fr/evenements/concert-12/
CATEGORIES:Association,Culture
END:VEVENT
BEGIN:VEVENT
DTSTART;TZID=Europe/Paris:20240618T090000
DTEND;TZID=Europe/Paris:20240706T180000
DTSTAMP:20260420T012351
CREATED:20240523T075832Z
LAST-MODIFIED:20240620T132800Z
UID:9836-1718701200-1720288800@www.ville-meze.fr
SUMMARY:Exposition photos
DESCRIPTION:Deux expositions de photos sur le thème « Le sport pour toutes et tous »\, initiées par la Ville de Mèze sont accueillies à la médiathèque A. Chedid de Sète agglopôle Méditerranée. \nLES SPORTIVES DE MÈZE EN LUMIÈRE\nEn cette année olympique\, le service municipal des sports met à l’honneur les sportives à travers une série de portraits. Ce travail est réalisé par la photographe Valérie Varo\, au cours des séances d’entraînement ou des compétitions des sportives mézoises. Ces images mettent l’accent sur la passion\, la détermination et la force des femmes dans le sport. \nÀ BAS LES STÉRÉOTYPES DANS LES SPORTS !\nLes ados de l’espace jeunes travaillent sur la lutte contre les stéréotypes de genre dans le sport. À l’approche des JO\, ils ont réalisé\, avec les animateurs\, des affiches pour dénoncer et combattre les préjugés et la discrimination dans le domaine du sport. Les stéréotypes de genre contribuent encore à maintenir des différences dans le choix des disciplines. La municipalité souhaite déconstruire cette image auprès de la jeune génération pour promouvoir l’égalité de genre dans le sport. Les photos de l’exposition sont réalisées par Bruce Montagne. \n« Ces initiatives visent à valoriser et encourager le développement de la pratique sportive et à\nréduire les inégalités d’accès pour assurer un changement des mentalités dans le sport.«\nexplique Delphine Aknin\, conseillère municipale et référente à l’égalité femme – homme. \nPhotos à découvrir avec l’exposition du comité départemental olympique\, du 20 juin au 6 juillet.
URL:https://www.ville-meze.fr/evenements/exposition-photo/
LOCATION:à la Médiathèque Andrée Chedid
CATEGORIES:Culture
ATTACH;FMTTYPE=image/jpeg:https://www.ville-meze.fr/app/uploads/2024/05/expos_sport_pour_tous2.jpg
END:VEVENT
END:VCALENDAR