BEGIN:VCALENDAR
VERSION:2.0
PRODID:-//Ville de Mèze - ECPv6.15.20//NONSGML v1.0//EN
CALSCALE:GREGORIAN
METHOD:PUBLISH
X-ORIGINAL-URL:https://www.ville-meze.fr
X-WR-CALDESC:Évènements pour Ville de Mèze
REFRESH-INTERVAL;VALUE=DURATION:PT1H
X-Robots-Tag:noindex
X-PUBLISHED-TTL:PT1H
BEGIN:VTIMEZONE
TZID:Europe/Paris
BEGIN:DAYLIGHT
TZOFFSETFROM:+0100
TZOFFSETTO:+0200
TZNAME:CEST
DTSTART:20240331T010000
END:DAYLIGHT
BEGIN:STANDARD
TZOFFSETFROM:+0200
TZOFFSETTO:+0100
TZNAME:CET
DTSTART:20241027T010000
END:STANDARD
BEGIN:DAYLIGHT
TZOFFSETFROM:+0100
TZOFFSETTO:+0200
TZNAME:CEST
DTSTART:20250330T010000
END:DAYLIGHT
BEGIN:STANDARD
TZOFFSETFROM:+0200
TZOFFSETTO:+0100
TZNAME:CET
DTSTART:20251026T010000
END:STANDARD
BEGIN:DAYLIGHT
TZOFFSETFROM:+0100
TZOFFSETTO:+0200
TZNAME:CEST
DTSTART:20260329T010000
END:DAYLIGHT
BEGIN:STANDARD
TZOFFSETFROM:+0200
TZOFFSETTO:+0100
TZNAME:CET
DTSTART:20261025T010000
END:STANDARD
END:VTIMEZONE
BEGIN:VEVENT
DTSTART;TZID=Europe/Paris:20251003T183000
DTEND;TZID=Europe/Paris:20251003T193000
DTSTAMP:20260426T055605
CREATED:20250910T073430Z
LAST-MODIFIED:20250911T080836Z
UID:22892-1759516200-1759519800@www.ville-meze.fr
SUMMARY:Octobre rose : Lancement
DESCRIPTION:Lancement d’Octobre rose : Flashmob avec Corpedie’M
URL:https://www.ville-meze.fr/evenements/octobre-rose-lancement-2/
LOCATION:sur le parvis de la salle Jeanne Oulié
CATEGORIES:Autre,Vie municipale
ATTACH;FMTTYPE=image/jpeg:https://www.ville-meze.fr/app/uploads/2024/09/visu_article_octobre_rose.jpg
END:VEVENT
BEGIN:VEVENT
DTSTART;TZID=Europe/Paris:20251007T183000
DTEND;TZID=Europe/Paris:20251007T183000
DTSTAMP:20260426T055605
CREATED:20251002T131246Z
LAST-MODIFIED:20251002T131745Z
UID:23585-1759861800-1759861800@www.ville-meze.fr
SUMMARY:Réunion citoyenne : lauréat 2025 du budget participatif
DESCRIPTION:Le projet lauréat du budget participatif 2025 sera dévoilé à l’occasion de la réunion citoyenne du 7 octobre prochain\, maison de la citoyenneté (rue de la loge). \nRappel des projets en lice : \n\n\n-Installer une table de ping-pong en extérieur\n\n\n-Créer des jeux de marelles ludiques et éducatifs dans nos rues piétonnes\n\n\n-Créer des bacs à jouets solidaires de plage\n\n\n-Installer un HASTHAG MEZE géant en ville\n\n\nCette initiative citoyenne permet aux Mézoises et aux Mézois de proposer directement des projets d’intérêt général et de choisir celui qui verra le jour. La Ville consacre une enveloppe budgétaire de 10 000€ par an pour la réalisation d’un projet local imaginé par les citoyens eux-mêmes.
URL:https://www.ville-meze.fr/evenements/reunion-citoyenne-laureat-2025-du-budget-participatif/
LOCATION:à la maison de la citoyenneté (rue de la loge)
CATEGORIES:Vie municipale
ATTACH;FMTTYPE=image/jpeg:https://www.ville-meze.fr/app/uploads/2025/10/budget_participatif_annonce_laureat2025_2.jpg
END:VEVENT
BEGIN:VEVENT
DTSTART;TZID=Europe/Paris:20251024T173000
DTEND;TZID=Europe/Paris:20251024T183000
DTSTAMP:20260426T055605
CREATED:20251010T071110Z
LAST-MODIFIED:20251022T061449Z
UID:23925-1761327000-1761330600@www.ville-meze.fr
SUMMARY:Inauguration de la place Aristide Briand
DESCRIPTION:L’inauguration de la place Aristide Briand et des abords de l’hôtel de Ville aura lieu le vendredi 24 octobre\, à 17h30 sur le parvis de la mairie. \nCet aménagement d’envergure qui comprend la place Aristide Briand\, les rues Docteur Magne\, Entéric\, de la République\, le pourtour des halles et le parvis de l’église Saint-Hilaire\, a été réalisé dans le but de rendre ces espaces du cœur de ville plus conviviaux\, plus beaux et plus attractifs.
URL:https://www.ville-meze.fr/evenements/inauguration-de-la-place-aristide-briand/
LOCATION:sur le parvis de la mairie
CATEGORIES:Vie municipale
ATTACH;FMTTYPE=image/jpeg:https://www.ville-meze.fr/app/uploads/2025/10/inaug_place_ab1.jpg
END:VEVENT
END:VCALENDAR