BEGIN:VCALENDAR
VERSION:2.0
PRODID:-//Ville de Mèze - ECPv6.15.20//NONSGML v1.0//EN
CALSCALE:GREGORIAN
METHOD:PUBLISH
X-ORIGINAL-URL:https://www.ville-meze.fr
X-WR-CALDESC:Évènements pour Ville de Mèze
REFRESH-INTERVAL;VALUE=DURATION:PT1H
X-Robots-Tag:noindex
X-PUBLISHED-TTL:PT1H
BEGIN:VTIMEZONE
TZID:Europe/Paris
BEGIN:DAYLIGHT
TZOFFSETFROM:+0100
TZOFFSETTO:+0200
TZNAME:CEST
DTSTART:20240331T010000
END:DAYLIGHT
BEGIN:STANDARD
TZOFFSETFROM:+0200
TZOFFSETTO:+0100
TZNAME:CET
DTSTART:20241027T010000
END:STANDARD
BEGIN:DAYLIGHT
TZOFFSETFROM:+0100
TZOFFSETTO:+0200
TZNAME:CEST
DTSTART:20250330T010000
END:DAYLIGHT
BEGIN:STANDARD
TZOFFSETFROM:+0200
TZOFFSETTO:+0100
TZNAME:CET
DTSTART:20251026T010000
END:STANDARD
BEGIN:DAYLIGHT
TZOFFSETFROM:+0100
TZOFFSETTO:+0200
TZNAME:CEST
DTSTART:20260329T010000
END:DAYLIGHT
BEGIN:STANDARD
TZOFFSETFROM:+0200
TZOFFSETTO:+0100
TZNAME:CET
DTSTART:20261025T010000
END:STANDARD
END:VTIMEZONE
BEGIN:VEVENT
DTSTART;TZID=Europe/Paris:20251205T100000
DTEND;TZID=Europe/Paris:20251205T110000
DTSTAMP:20260426T021916
CREATED:20251003T102023Z
LAST-MODIFIED:20251003T102530Z
UID:23643-1764928800-1764932400@www.ville-meze.fr
SUMMARY:Cérémonie
DESCRIPTION:Cérémonie commémorative en hommage aux morts pour la France
URL:https://www.ville-meze.fr/evenements/ceremonie-13/
LOCATION:au cimetière
CATEGORIES:Vie municipale
END:VEVENT
END:VCALENDAR